BEGIN:VCALENDAR
VERSION:2.0
PRODID:-//Gun Owners of California - ECPv6.15.20//NONSGML v1.0//EN
CALSCALE:GREGORIAN
METHOD:PUBLISH
X-ORIGINAL-URL:https://gunownersca.com
X-WR-CALDESC:Events for Gun Owners of California
REFRESH-INTERVAL;VALUE=DURATION:PT1H
X-Robots-Tag:noindex
X-PUBLISHED-TTL:PT1H
BEGIN:VTIMEZONE
TZID:America/Los_Angeles
BEGIN:DAYLIGHT
TZOFFSETFROM:-0800
TZOFFSETTO:-0700
TZNAME:PDT
DTSTART:20250309T100000
END:DAYLIGHT
BEGIN:STANDARD
TZOFFSETFROM:-0700
TZOFFSETTO:-0800
TZNAME:PST
DTSTART:20251102T090000
END:STANDARD
BEGIN:DAYLIGHT
TZOFFSETFROM:-0800
TZOFFSETTO:-0700
TZNAME:PDT
DTSTART:20260308T100000
END:DAYLIGHT
BEGIN:STANDARD
TZOFFSETFROM:-0700
TZOFFSETTO:-0800
TZNAME:PST
DTSTART:20261101T090000
END:STANDARD
BEGIN:DAYLIGHT
TZOFFSETFROM:-0800
TZOFFSETTO:-0700
TZNAME:PDT
DTSTART:20270314T100000
END:DAYLIGHT
BEGIN:STANDARD
TZOFFSETFROM:-0700
TZOFFSETTO:-0800
TZNAME:PST
DTSTART:20271107T090000
END:STANDARD
END:VTIMEZONE
BEGIN:VEVENT
DTSTART;TZID=America/Los_Angeles:20260523T090000
DTEND;TZID=America/Los_Angeles:20260523T130000
DTSTAMP:20260421T060756
CREATED:20260203T194437Z
LAST-MODIFIED:20260204T000511Z
UID:10000096-1779526800-1779541200@gunownersca.com
SUMMARY:3rd Annual Ladies Freedom Shoot by Mama Bear Defense
DESCRIPTION:The 3rd Annual Ladies Freedom Shoot\, hosted by Mama Bear Defense\, is a welcoming\, hands-on firearms experience created for women of all skill levels—from first-time shooters to seasoned enthusiasts. Presented in collaboration with Gun Owners of America and Gun Owners of California\, this family-friendly event is designed to build confidence\, promote safe firearm handling\, and bring together like-minded women in a supportive\, encouraging environment. \nParticipants will have the opportunity to experience a variety of shooting disciplines\, including shotgun clays\, long-range precision\, handguns\, and rifles\, with knowledgeable instructors available to guide and support new shooters throughout the event. Attendees can also enjoy on-site vendors\, raffle prizes\, and educational resources focused on safe use and responsible storage of firearms. \nWhether attending as a shooter or a spectator\, the Ladies Freedom Shoot is about education\, empowerment\, and community—creating an approachable space for women to learn\, connect\, and enjoy the shooting sports with confidence. \n\nTickets
URL:https://gunownersca.com/event/3rd-annual-ladies-freedom-shoot-by-mama-bear-defense/
LOCATION:Quail Point Hunt Club\, 29625 Co Rd 14\, Esparto\, CA\, 95627\, United States
ATTACH;FMTTYPE=image/jpeg:https://gunownersca.com/wp-content/uploads/2026/02/mamabeardefenseshoot.jpg
END:VEVENT
END:VCALENDAR